BEGIN:VCALENDAR
VERSION:2.0
PRODID:-//Coming To The Table - ECPv6.15.20//NONSGML v1.0//EN
CALSCALE:GREGORIAN
METHOD:PUBLISH
X-WR-CALNAME:Coming To The Table
X-ORIGINAL-URL:https://comingtothetable.org
X-WR-CALDESC:Events for Coming To The Table
REFRESH-INTERVAL;VALUE=DURATION:PT1H
X-Robots-Tag:noindex
X-PUBLISHED-TTL:PT1H
BEGIN:VTIMEZONE
TZID:America/Los_Angeles
BEGIN:DAYLIGHT
TZOFFSETFROM:-0800
TZOFFSETTO:-0700
TZNAME:PDT
DTSTART:20290311T100000
END:DAYLIGHT
BEGIN:STANDARD
TZOFFSETFROM:-0700
TZOFFSETTO:-0800
TZNAME:PST
DTSTART:20291104T090000
END:STANDARD
BEGIN:DAYLIGHT
TZOFFSETFROM:-0800
TZOFFSETTO:-0700
TZNAME:PDT
DTSTART:20300310T100000
END:DAYLIGHT
BEGIN:STANDARD
TZOFFSETFROM:-0700
TZOFFSETTO:-0800
TZNAME:PST
DTSTART:20301103T090000
END:STANDARD
BEGIN:DAYLIGHT
TZOFFSETFROM:-0800
TZOFFSETTO:-0700
TZNAME:PDT
DTSTART:20310309T100000
END:DAYLIGHT
BEGIN:STANDARD
TZOFFSETFROM:-0700
TZOFFSETTO:-0800
TZNAME:PST
DTSTART:20311102T090000
END:STANDARD
BEGIN:DAYLIGHT
TZOFFSETFROM:-0800
TZOFFSETTO:-0700
TZNAME:PDT
DTSTART:20320314T100000
END:DAYLIGHT
BEGIN:STANDARD
TZOFFSETFROM:-0700
TZOFFSETTO:-0800
TZNAME:PST
DTSTART:20321107T090000
END:STANDARD
END:VTIMEZONE
BEGIN:VEVENT
DTSTART;TZID=America/Los_Angeles:20300128T190000
DTEND;TZID=America/Los_Angeles:20300128T203000
DTSTAMP:20260420T204932
CREATED:20251117T224026Z
LAST-MODIFIED:20251117T225208Z
UID:10007002-1895857200-1895862600@comingtothetable.org
SUMMARY:Local Group "Virtual" Gathering: Bend\, OR (4th Mondays)
DESCRIPTION:The Bend\, Oregon CTTT Local Affiliate Group typically meets the 2nd Monday of each month via Zoom. We have additionally met occasionally on other dates to discuss relevant books or to watch movies together online. \nTo be added to our email list so you’ll learn about any and all meetings in Central Oregon\, to receive the Zoom log-in details for upcoming meetings\, or if you have other questions\, Click Here and complete the contact form at the bottom of the page. We look forward to you joining us!
URL:https://comingtothetable.org/event/local-group-virtual-gathering-bend-or-2/2030-01-28/
CATEGORIES:Bend, OR,Local Gathering
ATTACH;FMTTYPE=:
END:VEVENT
BEGIN:VEVENT
DTSTART;TZID=America/Los_Angeles:20300211T190000
DTEND;TZID=America/Los_Angeles:20300211T203000
DTSTAMP:20260420T204932
CREATED:20251117T225305Z
LAST-MODIFIED:20251117T225305Z
UID:10007160-1897066800-1897072200@comingtothetable.org
SUMMARY:Local Group "Virtual" Gathering: Bend\, OR (2nd Mondays)
DESCRIPTION:The Bend\, Oregon CTTT Local Affiliate Group typically meets the 2nd and 4th Mondays of each month via Zoom. We have additionally met occasionally on other dates to discuss relevant books or to watch movies together online. \nTo be added to our email list so you’ll learn about any and all meetings in Central Oregon\, to receive the Zoom log-in details for upcoming meetings\, or if you have other questions\, Click Here and complete the contact form at the bottom of the page. We look forward to you joining us!
URL:https://comingtothetable.org/event/local-group-virtual-gathering-bend-or-2nd-mondays/2030-02-11/
CATEGORIES:Bend, OR,Local Gathering
ATTACH;FMTTYPE=:
END:VEVENT
BEGIN:VEVENT
DTSTART;TZID=America/Los_Angeles:20300225T190000
DTEND;TZID=America/Los_Angeles:20300225T203000
DTSTAMP:20260420T204932
CREATED:20251117T224026Z
LAST-MODIFIED:20251117T225208Z
UID:10007003-1898276400-1898281800@comingtothetable.org
SUMMARY:Local Group "Virtual" Gathering: Bend\, OR (4th Mondays)
DESCRIPTION:The Bend\, Oregon CTTT Local Affiliate Group typically meets the 2nd Monday of each month via Zoom. We have additionally met occasionally on other dates to discuss relevant books or to watch movies together online. \nTo be added to our email list so you’ll learn about any and all meetings in Central Oregon\, to receive the Zoom log-in details for upcoming meetings\, or if you have other questions\, Click Here and complete the contact form at the bottom of the page. We look forward to you joining us!
URL:https://comingtothetable.org/event/local-group-virtual-gathering-bend-or-2/2030-02-25/
CATEGORIES:Bend, OR,Local Gathering
ATTACH;FMTTYPE=:
END:VEVENT
BEGIN:VEVENT
DTSTART;TZID=America/Los_Angeles:20300311T190000
DTEND;TZID=America/Los_Angeles:20300311T203000
DTSTAMP:20260420T204932
CREATED:20251117T225305Z
LAST-MODIFIED:20251117T225305Z
UID:10007161-1899486000-1899491400@comingtothetable.org
SUMMARY:Local Group "Virtual" Gathering: Bend\, OR (2nd Mondays)
DESCRIPTION:The Bend\, Oregon CTTT Local Affiliate Group typically meets the 2nd and 4th Mondays of each month via Zoom. We have additionally met occasionally on other dates to discuss relevant books or to watch movies together online. \nTo be added to our email list so you’ll learn about any and all meetings in Central Oregon\, to receive the Zoom log-in details for upcoming meetings\, or if you have other questions\, Click Here and complete the contact form at the bottom of the page. We look forward to you joining us!
URL:https://comingtothetable.org/event/local-group-virtual-gathering-bend-or-2nd-mondays/2030-03-11/
CATEGORIES:Bend, OR,Local Gathering
ATTACH;FMTTYPE=:
END:VEVENT
BEGIN:VEVENT
DTSTART;TZID=America/Los_Angeles:20300325T190000
DTEND;TZID=America/Los_Angeles:20300325T203000
DTSTAMP:20260420T204932
CREATED:20251117T224026Z
LAST-MODIFIED:20251117T225208Z
UID:10007004-1900695600-1900701000@comingtothetable.org
SUMMARY:Local Group "Virtual" Gathering: Bend\, OR (4th Mondays)
DESCRIPTION:The Bend\, Oregon CTTT Local Affiliate Group typically meets the 2nd Monday of each month via Zoom. We have additionally met occasionally on other dates to discuss relevant books or to watch movies together online. \nTo be added to our email list so you’ll learn about any and all meetings in Central Oregon\, to receive the Zoom log-in details for upcoming meetings\, or if you have other questions\, Click Here and complete the contact form at the bottom of the page. We look forward to you joining us!
URL:https://comingtothetable.org/event/local-group-virtual-gathering-bend-or-2/2030-03-25/
CATEGORIES:Bend, OR,Local Gathering
ATTACH;FMTTYPE=:
END:VEVENT
BEGIN:VEVENT
DTSTART;TZID=America/Los_Angeles:20300408T190000
DTEND;TZID=America/Los_Angeles:20300408T203000
DTSTAMP:20260420T204932
CREATED:20251117T225305Z
LAST-MODIFIED:20251117T225305Z
UID:10007162-1901905200-1901910600@comingtothetable.org
SUMMARY:Local Group "Virtual" Gathering: Bend\, OR (2nd Mondays)
DESCRIPTION:The Bend\, Oregon CTTT Local Affiliate Group typically meets the 2nd and 4th Mondays of each month via Zoom. We have additionally met occasionally on other dates to discuss relevant books or to watch movies together online. \nTo be added to our email list so you’ll learn about any and all meetings in Central Oregon\, to receive the Zoom log-in details for upcoming meetings\, or if you have other questions\, Click Here and complete the contact form at the bottom of the page. We look forward to you joining us!
URL:https://comingtothetable.org/event/local-group-virtual-gathering-bend-or-2nd-mondays/2030-04-08/
CATEGORIES:Bend, OR,Local Gathering
ATTACH;FMTTYPE=:
END:VEVENT
BEGIN:VEVENT
DTSTART;TZID=America/Los_Angeles:20300422T190000
DTEND;TZID=America/Los_Angeles:20300422T203000
DTSTAMP:20260420T204932
CREATED:20251117T224026Z
LAST-MODIFIED:20251117T225208Z
UID:10007005-1903114800-1903120200@comingtothetable.org
SUMMARY:Local Group "Virtual" Gathering: Bend\, OR (4th Mondays)
DESCRIPTION:The Bend\, Oregon CTTT Local Affiliate Group typically meets the 2nd Monday of each month via Zoom. We have additionally met occasionally on other dates to discuss relevant books or to watch movies together online. \nTo be added to our email list so you’ll learn about any and all meetings in Central Oregon\, to receive the Zoom log-in details for upcoming meetings\, or if you have other questions\, Click Here and complete the contact form at the bottom of the page. We look forward to you joining us!
URL:https://comingtothetable.org/event/local-group-virtual-gathering-bend-or-2/2030-04-22/
CATEGORIES:Bend, OR,Local Gathering
ATTACH;FMTTYPE=:
END:VEVENT
BEGIN:VEVENT
DTSTART;TZID=America/Los_Angeles:20300513T190000
DTEND;TZID=America/Los_Angeles:20300513T203000
DTSTAMP:20260420T204932
CREATED:20251117T225305Z
LAST-MODIFIED:20251117T225305Z
UID:10007163-1904929200-1904934600@comingtothetable.org
SUMMARY:Local Group "Virtual" Gathering: Bend\, OR (2nd Mondays)
DESCRIPTION:The Bend\, Oregon CTTT Local Affiliate Group typically meets the 2nd and 4th Mondays of each month via Zoom. We have additionally met occasionally on other dates to discuss relevant books or to watch movies together online. \nTo be added to our email list so you’ll learn about any and all meetings in Central Oregon\, to receive the Zoom log-in details for upcoming meetings\, or if you have other questions\, Click Here and complete the contact form at the bottom of the page. We look forward to you joining us!
URL:https://comingtothetable.org/event/local-group-virtual-gathering-bend-or-2nd-mondays/2030-05-13/
CATEGORIES:Bend, OR,Local Gathering
ATTACH;FMTTYPE=:
END:VEVENT
BEGIN:VEVENT
DTSTART;TZID=America/Los_Angeles:20300527T190000
DTEND;TZID=America/Los_Angeles:20300527T203000
DTSTAMP:20260420T204932
CREATED:20251117T224026Z
LAST-MODIFIED:20251117T225208Z
UID:10007042-1906138800-1906144200@comingtothetable.org
SUMMARY:Local Group "Virtual" Gathering: Bend\, OR (4th Mondays)
DESCRIPTION:The Bend\, Oregon CTTT Local Affiliate Group typically meets the 2nd Monday of each month via Zoom. We have additionally met occasionally on other dates to discuss relevant books or to watch movies together online. \nTo be added to our email list so you’ll learn about any and all meetings in Central Oregon\, to receive the Zoom log-in details for upcoming meetings\, or if you have other questions\, Click Here and complete the contact form at the bottom of the page. We look forward to you joining us!
URL:https://comingtothetable.org/event/local-group-virtual-gathering-bend-or-2/2030-05-27/
CATEGORIES:Bend, OR,Local Gathering
ATTACH;FMTTYPE=:
END:VEVENT
BEGIN:VEVENT
DTSTART;TZID=America/Los_Angeles:20300610T190000
DTEND;TZID=America/Los_Angeles:20300610T203000
DTSTAMP:20260420T204932
CREATED:20251117T225305Z
LAST-MODIFIED:20251117T225305Z
UID:10007164-1907348400-1907353800@comingtothetable.org
SUMMARY:Local Group "Virtual" Gathering: Bend\, OR (2nd Mondays)
DESCRIPTION:The Bend\, Oregon CTTT Local Affiliate Group typically meets the 2nd and 4th Mondays of each month via Zoom. We have additionally met occasionally on other dates to discuss relevant books or to watch movies together online. \nTo be added to our email list so you’ll learn about any and all meetings in Central Oregon\, to receive the Zoom log-in details for upcoming meetings\, or if you have other questions\, Click Here and complete the contact form at the bottom of the page. We look forward to you joining us!
URL:https://comingtothetable.org/event/local-group-virtual-gathering-bend-or-2nd-mondays/2030-06-10/
CATEGORIES:Bend, OR,Local Gathering
ATTACH;FMTTYPE=:
END:VEVENT
BEGIN:VEVENT
DTSTART;TZID=America/Los_Angeles:20300624T190000
DTEND;TZID=America/Los_Angeles:20300624T203000
DTSTAMP:20260420T204932
CREATED:20251117T224026Z
LAST-MODIFIED:20251117T225208Z
UID:10007043-1908558000-1908563400@comingtothetable.org
SUMMARY:Local Group "Virtual" Gathering: Bend\, OR (4th Mondays)
DESCRIPTION:The Bend\, Oregon CTTT Local Affiliate Group typically meets the 2nd Monday of each month via Zoom. We have additionally met occasionally on other dates to discuss relevant books or to watch movies together online. \nTo be added to our email list so you’ll learn about any and all meetings in Central Oregon\, to receive the Zoom log-in details for upcoming meetings\, or if you have other questions\, Click Here and complete the contact form at the bottom of the page. We look forward to you joining us!
URL:https://comingtothetable.org/event/local-group-virtual-gathering-bend-or-2/2030-06-24/
CATEGORIES:Bend, OR,Local Gathering
ATTACH;FMTTYPE=:
END:VEVENT
BEGIN:VEVENT
DTSTART;TZID=America/Los_Angeles:20300708T190000
DTEND;TZID=America/Los_Angeles:20300708T203000
DTSTAMP:20260420T204932
CREATED:20251117T225305Z
LAST-MODIFIED:20251117T225305Z
UID:10007165-1909767600-1909773000@comingtothetable.org
SUMMARY:Local Group "Virtual" Gathering: Bend\, OR (2nd Mondays)
DESCRIPTION:The Bend\, Oregon CTTT Local Affiliate Group typically meets the 2nd and 4th Mondays of each month via Zoom. We have additionally met occasionally on other dates to discuss relevant books or to watch movies together online. \nTo be added to our email list so you’ll learn about any and all meetings in Central Oregon\, to receive the Zoom log-in details for upcoming meetings\, or if you have other questions\, Click Here and complete the contact form at the bottom of the page. We look forward to you joining us!
URL:https://comingtothetable.org/event/local-group-virtual-gathering-bend-or-2nd-mondays/2030-07-08/
CATEGORIES:Bend, OR,Local Gathering
ATTACH;FMTTYPE=:
END:VEVENT
BEGIN:VEVENT
DTSTART;TZID=America/Los_Angeles:20300722T190000
DTEND;TZID=America/Los_Angeles:20300722T203000
DTSTAMP:20260420T204932
CREATED:20251117T224026Z
LAST-MODIFIED:20251117T225208Z
UID:10007044-1910977200-1910982600@comingtothetable.org
SUMMARY:Local Group "Virtual" Gathering: Bend\, OR (4th Mondays)
DESCRIPTION:The Bend\, Oregon CTTT Local Affiliate Group typically meets the 2nd Monday of each month via Zoom. We have additionally met occasionally on other dates to discuss relevant books or to watch movies together online. \nTo be added to our email list so you’ll learn about any and all meetings in Central Oregon\, to receive the Zoom log-in details for upcoming meetings\, or if you have other questions\, Click Here and complete the contact form at the bottom of the page. We look forward to you joining us!
URL:https://comingtothetable.org/event/local-group-virtual-gathering-bend-or-2/2030-07-22/
CATEGORIES:Bend, OR,Local Gathering
ATTACH;FMTTYPE=:
END:VEVENT
BEGIN:VEVENT
DTSTART;TZID=America/Los_Angeles:20300812T190000
DTEND;TZID=America/Los_Angeles:20300812T203000
DTSTAMP:20260420T204932
CREATED:20251117T225305Z
LAST-MODIFIED:20251117T225305Z
UID:10007166-1912791600-1912797000@comingtothetable.org
SUMMARY:Local Group "Virtual" Gathering: Bend\, OR (2nd Mondays)
DESCRIPTION:The Bend\, Oregon CTTT Local Affiliate Group typically meets the 2nd and 4th Mondays of each month via Zoom. We have additionally met occasionally on other dates to discuss relevant books or to watch movies together online. \nTo be added to our email list so you’ll learn about any and all meetings in Central Oregon\, to receive the Zoom log-in details for upcoming meetings\, or if you have other questions\, Click Here and complete the contact form at the bottom of the page. We look forward to you joining us!
URL:https://comingtothetable.org/event/local-group-virtual-gathering-bend-or-2nd-mondays/2030-08-12/
CATEGORIES:Bend, OR,Local Gathering
ATTACH;FMTTYPE=:
END:VEVENT
BEGIN:VEVENT
DTSTART;TZID=America/Los_Angeles:20300826T190000
DTEND;TZID=America/Los_Angeles:20300826T203000
DTSTAMP:20260420T204932
CREATED:20251117T224026Z
LAST-MODIFIED:20251117T225208Z
UID:10007013-1914001200-1914006600@comingtothetable.org
SUMMARY:Local Group "Virtual" Gathering: Bend\, OR (4th Mondays)
DESCRIPTION:The Bend\, Oregon CTTT Local Affiliate Group typically meets the 2nd Monday of each month via Zoom. We have additionally met occasionally on other dates to discuss relevant books or to watch movies together online. \nTo be added to our email list so you’ll learn about any and all meetings in Central Oregon\, to receive the Zoom log-in details for upcoming meetings\, or if you have other questions\, Click Here and complete the contact form at the bottom of the page. We look forward to you joining us!
URL:https://comingtothetable.org/event/local-group-virtual-gathering-bend-or-2/2030-08-26/
CATEGORIES:Bend, OR,Local Gathering
ATTACH;FMTTYPE=:
END:VEVENT
BEGIN:VEVENT
DTSTART;TZID=America/Los_Angeles:20300909T190000
DTEND;TZID=America/Los_Angeles:20300909T203000
DTSTAMP:20260420T204932
CREATED:20251117T225305Z
LAST-MODIFIED:20251117T225305Z
UID:10007167-1915210800-1915216200@comingtothetable.org
SUMMARY:Local Group "Virtual" Gathering: Bend\, OR (2nd Mondays)
DESCRIPTION:The Bend\, Oregon CTTT Local Affiliate Group typically meets the 2nd and 4th Mondays of each month via Zoom. We have additionally met occasionally on other dates to discuss relevant books or to watch movies together online. \nTo be added to our email list so you’ll learn about any and all meetings in Central Oregon\, to receive the Zoom log-in details for upcoming meetings\, or if you have other questions\, Click Here and complete the contact form at the bottom of the page. We look forward to you joining us!
URL:https://comingtothetable.org/event/local-group-virtual-gathering-bend-or-2nd-mondays/2030-09-09/
CATEGORIES:Bend, OR,Local Gathering
ATTACH;FMTTYPE=:
END:VEVENT
BEGIN:VEVENT
DTSTART;TZID=America/Los_Angeles:20300923T190000
DTEND;TZID=America/Los_Angeles:20300923T203000
DTSTAMP:20260420T204932
CREATED:20251117T224026Z
LAST-MODIFIED:20251117T225208Z
UID:10007014-1916420400-1916425800@comingtothetable.org
SUMMARY:Local Group "Virtual" Gathering: Bend\, OR (4th Mondays)
DESCRIPTION:The Bend\, Oregon CTTT Local Affiliate Group typically meets the 2nd Monday of each month via Zoom. We have additionally met occasionally on other dates to discuss relevant books or to watch movies together online. \nTo be added to our email list so you’ll learn about any and all meetings in Central Oregon\, to receive the Zoom log-in details for upcoming meetings\, or if you have other questions\, Click Here and complete the contact form at the bottom of the page. We look forward to you joining us!
URL:https://comingtothetable.org/event/local-group-virtual-gathering-bend-or-2/2030-09-23/
CATEGORIES:Bend, OR,Local Gathering
ATTACH;FMTTYPE=:
END:VEVENT
BEGIN:VEVENT
DTSTART;TZID=America/Los_Angeles:20301014T190000
DTEND;TZID=America/Los_Angeles:20301014T203000
DTSTAMP:20260420T204932
CREATED:20251117T225305Z
LAST-MODIFIED:20251117T225305Z
UID:10007168-1918234800-1918240200@comingtothetable.org
SUMMARY:Local Group "Virtual" Gathering: Bend\, OR (2nd Mondays)
DESCRIPTION:The Bend\, Oregon CTTT Local Affiliate Group typically meets the 2nd and 4th Mondays of each month via Zoom. We have additionally met occasionally on other dates to discuss relevant books or to watch movies together online. \nTo be added to our email list so you’ll learn about any and all meetings in Central Oregon\, to receive the Zoom log-in details for upcoming meetings\, or if you have other questions\, Click Here and complete the contact form at the bottom of the page. We look forward to you joining us!
URL:https://comingtothetable.org/event/local-group-virtual-gathering-bend-or-2nd-mondays/2030-10-14/
CATEGORIES:Bend, OR,Local Gathering
ATTACH;FMTTYPE=:
END:VEVENT
BEGIN:VEVENT
DTSTART;TZID=America/Los_Angeles:20301028T190000
DTEND;TZID=America/Los_Angeles:20301028T203000
DTSTAMP:20260420T204932
CREATED:20251117T224026Z
LAST-MODIFIED:20251117T225208Z
UID:10007045-1919444400-1919449800@comingtothetable.org
SUMMARY:Local Group "Virtual" Gathering: Bend\, OR (4th Mondays)
DESCRIPTION:The Bend\, Oregon CTTT Local Affiliate Group typically meets the 2nd Monday of each month via Zoom. We have additionally met occasionally on other dates to discuss relevant books or to watch movies together online. \nTo be added to our email list so you’ll learn about any and all meetings in Central Oregon\, to receive the Zoom log-in details for upcoming meetings\, or if you have other questions\, Click Here and complete the contact form at the bottom of the page. We look forward to you joining us!
URL:https://comingtothetable.org/event/local-group-virtual-gathering-bend-or-2/2030-10-28/
CATEGORIES:Bend, OR,Local Gathering
ATTACH;FMTTYPE=:
END:VEVENT
BEGIN:VEVENT
DTSTART;TZID=America/Los_Angeles:20301111T190000
DTEND;TZID=America/Los_Angeles:20301111T203000
DTSTAMP:20260420T204932
CREATED:20251117T225305Z
LAST-MODIFIED:20251117T225305Z
UID:10007169-1920654000-1920659400@comingtothetable.org
SUMMARY:Local Group "Virtual" Gathering: Bend\, OR (2nd Mondays)
DESCRIPTION:The Bend\, Oregon CTTT Local Affiliate Group typically meets the 2nd and 4th Mondays of each month via Zoom. We have additionally met occasionally on other dates to discuss relevant books or to watch movies together online. \nTo be added to our email list so you’ll learn about any and all meetings in Central Oregon\, to receive the Zoom log-in details for upcoming meetings\, or if you have other questions\, Click Here and complete the contact form at the bottom of the page. We look forward to you joining us!
URL:https://comingtothetable.org/event/local-group-virtual-gathering-bend-or-2nd-mondays/2030-11-11/
CATEGORIES:Bend, OR,Local Gathering
ATTACH;FMTTYPE=:
END:VEVENT
BEGIN:VEVENT
DTSTART;TZID=America/Los_Angeles:20301125T190000
DTEND;TZID=America/Los_Angeles:20301125T203000
DTSTAMP:20260420T204932
CREATED:20251117T224026Z
LAST-MODIFIED:20251117T225208Z
UID:10007357-1921863600-1921869000@comingtothetable.org
SUMMARY:Local Group "Virtual" Gathering: Bend\, OR (4th Mondays)
DESCRIPTION:The Bend\, Oregon CTTT Local Affiliate Group typically meets the 2nd Monday of each month via Zoom. We have additionally met occasionally on other dates to discuss relevant books or to watch movies together online. \nTo be added to our email list so you’ll learn about any and all meetings in Central Oregon\, to receive the Zoom log-in details for upcoming meetings\, or if you have other questions\, Click Here and complete the contact form at the bottom of the page. We look forward to you joining us!
URL:https://comingtothetable.org/event/local-group-virtual-gathering-bend-or-2/2030-11-25/
CATEGORIES:Bend, OR,Local Gathering
ATTACH;FMTTYPE=:
END:VEVENT
BEGIN:VEVENT
DTSTART;TZID=America/Los_Angeles:20301209T190000
DTEND;TZID=America/Los_Angeles:20301209T203000
DTSTAMP:20260420T204932
CREATED:20251117T225305Z
LAST-MODIFIED:20251117T225305Z
UID:10007367-1923073200-1923078600@comingtothetable.org
SUMMARY:Local Group "Virtual" Gathering: Bend\, OR (2nd Mondays)
DESCRIPTION:The Bend\, Oregon CTTT Local Affiliate Group typically meets the 2nd and 4th Mondays of each month via Zoom. We have additionally met occasionally on other dates to discuss relevant books or to watch movies together online. \nTo be added to our email list so you’ll learn about any and all meetings in Central Oregon\, to receive the Zoom log-in details for upcoming meetings\, or if you have other questions\, Click Here and complete the contact form at the bottom of the page. We look forward to you joining us!
URL:https://comingtothetable.org/event/local-group-virtual-gathering-bend-or-2nd-mondays/2030-12-09/
CATEGORIES:Bend, OR,Local Gathering
ATTACH;FMTTYPE=:
END:VEVENT
BEGIN:VEVENT
DTSTART;TZID=America/Los_Angeles:20301223T190000
DTEND;TZID=America/Los_Angeles:20301223T203000
DTSTAMP:20260420T204932
CREATED:20251117T224026Z
LAST-MODIFIED:20251117T225208Z
UID:10007358-1924282800-1924288200@comingtothetable.org
SUMMARY:Local Group "Virtual" Gathering: Bend\, OR (4th Mondays)
DESCRIPTION:The Bend\, Oregon CTTT Local Affiliate Group typically meets the 2nd Monday of each month via Zoom. We have additionally met occasionally on other dates to discuss relevant books or to watch movies together online. \nTo be added to our email list so you’ll learn about any and all meetings in Central Oregon\, to receive the Zoom log-in details for upcoming meetings\, or if you have other questions\, Click Here and complete the contact form at the bottom of the page. We look forward to you joining us!
URL:https://comingtothetable.org/event/local-group-virtual-gathering-bend-or-2/2030-12-23/
CATEGORIES:Bend, OR,Local Gathering
ATTACH;FMTTYPE=:
END:VEVENT
BEGIN:VEVENT
DTSTART;TZID=America/Los_Angeles:20310113T190000
DTEND;TZID=America/Los_Angeles:20310113T203000
DTSTAMP:20260420T204932
CREATED:20251117T225305Z
LAST-MODIFIED:20251117T225305Z
UID:10007368-1926097200-1926102600@comingtothetable.org
SUMMARY:Local Group "Virtual" Gathering: Bend\, OR (2nd Mondays)
DESCRIPTION:The Bend\, Oregon CTTT Local Affiliate Group typically meets the 2nd and 4th Mondays of each month via Zoom. We have additionally met occasionally on other dates to discuss relevant books or to watch movies together online. \nTo be added to our email list so you’ll learn about any and all meetings in Central Oregon\, to receive the Zoom log-in details for upcoming meetings\, or if you have other questions\, Click Here and complete the contact form at the bottom of the page. We look forward to you joining us!
URL:https://comingtothetable.org/event/local-group-virtual-gathering-bend-or-2nd-mondays/2031-01-13/
CATEGORIES:Bend, OR,Local Gathering
ATTACH;FMTTYPE=:
END:VEVENT
BEGIN:VEVENT
DTSTART;TZID=America/Los_Angeles:20310127T190000
DTEND;TZID=America/Los_Angeles:20310127T203000
DTSTAMP:20260420T204932
CREATED:20251117T224026Z
LAST-MODIFIED:20251117T225208Z
UID:10007359-1927306800-1927312200@comingtothetable.org
SUMMARY:Local Group "Virtual" Gathering: Bend\, OR (4th Mondays)
DESCRIPTION:The Bend\, Oregon CTTT Local Affiliate Group typically meets the 2nd Monday of each month via Zoom. We have additionally met occasionally on other dates to discuss relevant books or to watch movies together online. \nTo be added to our email list so you’ll learn about any and all meetings in Central Oregon\, to receive the Zoom log-in details for upcoming meetings\, or if you have other questions\, Click Here and complete the contact form at the bottom of the page. We look forward to you joining us!
URL:https://comingtothetable.org/event/local-group-virtual-gathering-bend-or-2/2031-01-27/
CATEGORIES:Bend, OR,Local Gathering
ATTACH;FMTTYPE=:
END:VEVENT
BEGIN:VEVENT
DTSTART;TZID=America/Los_Angeles:20310210T190000
DTEND;TZID=America/Los_Angeles:20310210T203000
DTSTAMP:20260420T204932
CREATED:20251117T225305Z
LAST-MODIFIED:20251117T225305Z
UID:10007369-1928516400-1928521800@comingtothetable.org
SUMMARY:Local Group "Virtual" Gathering: Bend\, OR (2nd Mondays)
DESCRIPTION:The Bend\, Oregon CTTT Local Affiliate Group typically meets the 2nd and 4th Mondays of each month via Zoom. We have additionally met occasionally on other dates to discuss relevant books or to watch movies together online. \nTo be added to our email list so you’ll learn about any and all meetings in Central Oregon\, to receive the Zoom log-in details for upcoming meetings\, or if you have other questions\, Click Here and complete the contact form at the bottom of the page. We look forward to you joining us!
URL:https://comingtothetable.org/event/local-group-virtual-gathering-bend-or-2nd-mondays/2031-02-10/
CATEGORIES:Bend, OR,Local Gathering
ATTACH;FMTTYPE=:
END:VEVENT
BEGIN:VEVENT
DTSTART;TZID=America/Los_Angeles:20310224T190000
DTEND;TZID=America/Los_Angeles:20310224T203000
DTSTAMP:20260420T204932
CREATED:20251117T224026Z
LAST-MODIFIED:20251117T225208Z
UID:10007360-1929726000-1929731400@comingtothetable.org
SUMMARY:Local Group "Virtual" Gathering: Bend\, OR (4th Mondays)
DESCRIPTION:The Bend\, Oregon CTTT Local Affiliate Group typically meets the 2nd Monday of each month via Zoom. We have additionally met occasionally on other dates to discuss relevant books or to watch movies together online. \nTo be added to our email list so you’ll learn about any and all meetings in Central Oregon\, to receive the Zoom log-in details for upcoming meetings\, or if you have other questions\, Click Here and complete the contact form at the bottom of the page. We look forward to you joining us!
URL:https://comingtothetable.org/event/local-group-virtual-gathering-bend-or-2/2031-02-24/
CATEGORIES:Bend, OR,Local Gathering
ATTACH;FMTTYPE=:
END:VEVENT
BEGIN:VEVENT
DTSTART;TZID=America/Los_Angeles:20310310T190000
DTEND;TZID=America/Los_Angeles:20310310T203000
DTSTAMP:20260420T204932
CREATED:20251117T225305Z
LAST-MODIFIED:20251117T225305Z
UID:10007392-1930935600-1930941000@comingtothetable.org
SUMMARY:Local Group "Virtual" Gathering: Bend\, OR (2nd Mondays)
DESCRIPTION:The Bend\, Oregon CTTT Local Affiliate Group typically meets the 2nd and 4th Mondays of each month via Zoom. We have additionally met occasionally on other dates to discuss relevant books or to watch movies together online. \nTo be added to our email list so you’ll learn about any and all meetings in Central Oregon\, to receive the Zoom log-in details for upcoming meetings\, or if you have other questions\, Click Here and complete the contact form at the bottom of the page. We look forward to you joining us!
URL:https://comingtothetable.org/event/local-group-virtual-gathering-bend-or-2nd-mondays/2031-03-10/
CATEGORIES:Bend, OR,Local Gathering
ATTACH;FMTTYPE=:
END:VEVENT
END:VCALENDAR